BEGIN:VCALENDAR
VERSION:2.0
PRODID:-//eventon.com NONSGML v1.0//EN
CALSCALE:GREGORIAN
METHOD:PUBLISH
BEGIN:VEVENT
UID:69eb80e4d6f96
DTSTAMP:20260424T144036Z
DTSTART:20260927T080000Z
DTEND:20260927T130000Z
LOCATION:
SUMMARY:HCA Marathon 2026
DESCRIPTION:HCA Marathon 2026\nhttps://amagerrunners.dk/events/hca-marathon
 -2026/
URL:https://amagerrunners.dk/events/hca-marathon-2026/
END:VEVENT
END:VCALENDAR