BEGIN:VCALENDAR
VERSION:2.0
PRODID:-//eventon.com NONSGML v1.0//EN
CALSCALE:GREGORIAN
METHOD:PUBLISH
BEGIN:VEVENT
UID:69eb7a5af26ce
DTSTAMP:20260424T141242Z
DTSTART:20260920T073000Z
DTEND:20260920T110000Z
LOCATION:
SUMMARY:VM Halfmarathon Copenhagen 26
DESCRIPTION:VM Halfmarathon Copenhagen 26\nhttps://amagerrunners.dk/events/
 vm-halvmarathon-2026/
URL:https://amagerrunners.dk/events/vm-halvmarathon-2026/
END:VEVENT
END:VCALENDAR