BEGIN:VCALENDAR
VERSION:2.0
PRODID:-//eventon.com NONSGML v1.0//EN
CALSCALE:GREGORIAN
METHOD:PUBLISH
BEGIN:VEVENT
UID:69eb7a8ece1ba
DTSTAMP:20260424T141334Z
DTSTART:20260614T080000Z
DTEND:20260614T100000Z
LOCATION:
SUMMARY:Aarhus City Half 2026
DESCRIPTION:Aarhus City Half 2026\nhttps://amagerrunners.dk/events/aarhus-c
 ity-half-2026/
URL:https://amagerrunners.dk/events/aarhus-city-half-2026/
END:VEVENT
END:VCALENDAR