BEGIN:VCALENDAR
VERSION:2.0
PRODID:-//eventon.com NONSGML v1.0//EN
CALSCALE:GREGORIAN
METHOD:PUBLISH
BEGIN:VEVENT
UID:69eb4f532dac7
DTSTAMP:20260424T110907Z
DTSTART:20261206T070000Z
DTEND:20261206T110000Z
LOCATION:
SUMMARY:Valencia Marathon 2026
DESCRIPTION:Valencia Marathon 2026\nhttps://amagerrunners.dk/events/valenci
 a-marathon-2026/
URL:https://amagerrunners.dk/events/valencia-marathon-2026/
END:VEVENT
END:VCALENDAR