BEGIN:VCALENDAR
VERSION:2.0
PRODID:-//eventon.com NONSGML v1.0//EN
CALSCALE:GREGORIAN
METHOD:PUBLISH
BEGIN:VEVENT
UID:69eb5037969c8
DTSTAMP:20260424T111255Z
DTSTART:20260531T090000Z
DTEND:20260531T120000Z
LOCATION:
SUMMARY:Odense City Half
DESCRIPTION:Odense City Half\nhttps://amagerrunners.dk/events/odense-city-h
 alf/
URL:https://amagerrunners.dk/events/odense-city-half/
END:VEVENT
END:VCALENDAR