BEGIN:VCALENDAR
VERSION:2.0
PRODID:-//eventon.com NONSGML v1.0//EN
CALSCALE:GREGORIAN
METHOD:PUBLISH
BEGIN:VEVENT
UID:69eb4fb88576f
DTSTAMP:20260424T111048Z
DTSTART:20260720T160000Z
DTEND:20260724T180000Z
LOCATION:
SUMMARY:Etape Bornholm 2026
DESCRIPTION:Etape Bornholm 2026\nhttps://amagerrunners.dk/events/etape-born
 holm-2026/
URL:https://amagerrunners.dk/events/etape-bornholm-2026/
END:VEVENT
END:VCALENDAR