BEGIN:VCALENDAR
VERSION:2.0
PRODID:-//eventon.com NONSGML v1.0//EN
CALSCALE:GREGORIAN
METHOD:PUBLISH
BEGIN:VEVENT
UID:69eb4fdde70a6
DTSTAMP:20260424T111125Z
DTSTART:20260829T070000Z
DTEND:20260830T153000Z
LOCATION:
SUMMARY:DM ungdom
DESCRIPTION:DM ungdom\nhttps://amagerrunners.dk/events/dm-ungdom/
URL:https://amagerrunners.dk/events/dm-ungdom/
END:VEVENT
END:VCALENDAR