BEGIN:VCALENDAR
VERSION:2.0
PRODID:-//eventon.com NONSGML v1.0//EN
CALSCALE:GREGORIAN
METHOD:PUBLISH
BEGIN:VEVENT
UID:69eb7b7389ddb
DTSTAMP:20260424T141723Z
DTSTART:20260607T070000Z
DTEND:20260607T100000Z
LOCATION:
SUMMARY:DM Halvmaraton 2026
DESCRIPTION:DM Halvmaraton 2026\nhttps://amagerrunners.dk/events/dm-halvma
 raton-2026/
URL:https://amagerrunners.dk/events/dm-halvmaraton-2026/
END:VEVENT
END:VCALENDAR