BEGIN:VCALENDAR
VERSION:2.0
PRODID:-//eventon.com NONSGML v1.0//EN
CALSCALE:GREGORIAN
METHOD:PUBLISH
BEGIN:VEVENT
UID:69eb4f71e4695
DTSTAMP:20260424T110937Z
DTSTART:20260625T160000Z
DTEND:20260625T160000Z
LOCATION:
SUMMARY:DM 5 km landevej
DESCRIPTION:DM 5 km landevej\nhttps://amagerrunners.dk/events/dm-5-km-lande
 vej/
URL:https://amagerrunners.dk/events/dm-5-km-landevej/
END:VEVENT
END:VCALENDAR