BEGIN:VCALENDAR
VERSION:2.0
PRODID:-//eventon.com NONSGML v1.0//EN
CALSCALE:GREGORIAN
METHOD:PUBLISH
BEGIN:VEVENT
UID:69eb7d4be6711
DTSTAMP:20260424T142515Z
DTSTART:20260525T160000Z
DTEND:20260525T170000Z
LOCATION:
SUMMARY:Royal Run 2026
DESCRIPTION:Royal Run 2026\nhttps://amagerrunners.dk/events/royal-run-2026/
URL:https://amagerrunners.dk/events/royal-run-2026/
END:VEVENT
END:VCALENDAR