BEGIN:VCALENDAR
VERSION:2.0
PRODID:-//eventon.com NONSGML v1.0//EN
CALSCALE:GREGORIAN
METHOD:PUBLISH
BEGIN:VEVENT
UID:69eb7babd4304
DTSTAMP:20260424T141819Z
DTSTART:20260510T073000Z
DTEND:20260510T110000Z
LOCATION:
SUMMARY:DM Marathon 2026
DESCRIPTION:DM Marathon 2026\nhttps://amagerrunners.dk/events/copenhagen-ma
 rathon-2026/
URL:https://amagerrunners.dk/events/copenhagen-marathon-2026/
END:VEVENT
END:VCALENDAR